BEGIN:VCALENDAR
VERSION:2.0
PRODID:-//hacksw/handcal//NONSGML v1.0//EN
CALSCALE:GREGORIAN
BEGIN:VEVENT
ORGANIZER;CN=The Cronos Group:MAILTO:no-reply@mail.gcs-web.com
DTEND:
UID:3e463e72-2266-43f6-bb78-c74f4054908d
DTSTAMP:1776871432
LOCATION:https://edge.media-server.com/mmc/p/7jpvknsj/
DESCRIPTION:Event Details https://thecronosgroup.gcs-web.com/events/event-details/cronos-group-first-quarter-2026-earnings-conference-call\n\nWebcast: https://edge.media-server.com/mmc/p/7jpvknsj/
URL;VALUE=URI:https://edge.media-server.com/mmc/p/7jpvknsj/
SUMMARY:The Cronos Group - Cronos Group First Quarter 2026 Earnings Conference Call
DTSTART:20260511T123000Z
END:VEVENT
END:VCALENDAR